Workbook

Sheet Lavorazioni
B2: REGISTRO DELLE LAVORAZIONI & | F2: =NOW() -> 41719.575
B4: DATA INIZIO LAVORAZIONE | C4: GIORNI TRASCORSI | D4: NUMERO DI LAVORAZIONE | E4: TIPO | F4: NOTE
B5: 41686 | C5: =IF(B5="","",(TODAY()-B5)) -> 33 | D5: mw01 | E5: Branzi | F5: Stagionato in frigo, UR60%, T 4°C
B6: 41687 | C6: =IF(B6="","",(TODAY()-B6)) -> 32 | D6: mw02 | E6: Fontina | F6: Stagionato in grotta
B7: 41688 | C7: =IF(B7="","",(TODAY()-B7)) -> 31 | D7: mw03 | E7: Mozzarella | F7: Latte preso da Luigi
B8: 41689 | C8: =IF(B8="","",(TODAY()-B8)) -> 30 | D8: mw04 | E8: Gorgonzola | F8: Latte del supermarket
B9: 41690 | C9: =IF(B9="","",(TODAY()-B9)) -> 29 | D9: mw05 | E9: Fontina | F9: Nel Cretacico inferiore (Maastrichtiano, 69-70 milioni di anni fa) l’Alaska si trovava più o meno nella stessa posizione dove si trova oggi ma il clima era molto più caldo di quello attuale. La lunghezza del N. hoglundi è stata dedotta da Fiorillo e Tykoski dalla lunghezza del cranio paragonandolo a quella di dinosauri carnivori di specie simili.
B10: 41691 | C10: =IF(B10="","",(TODAY()-B10)) -> 28 | D10: mw06 | E10: Mozzarella | F10: GADOIGJADPFIOGUJFIADOGJFADHGUFADHGUIFDHAGUIFHADUIGHFUIADGHUIFADHGUFHADUGIHFUADGHUFADHGUFDHAGUHFDAUGHFUADGHPFIADHGOFIADHGIADHGIADFHPGADF
B11: 41692 | C11: =IF(B11="","",(TODAY()-B11)) -> 27 | D11: mw07 | E11: Gorgonzola | F11: Capra Vaccino 50/50
B12: 41693 | C12: =IF(B12="","",(TODAY()-B12)) -> 26 | D12: mw08 | E12: Fontina | F12: Bona
B13: 41694 | C13: =IF(B13="","",(TODAY()-B13)) -> 25 | D13: mw09 | E13: Mozzarella | F13: Boh
B14: 41695 | C14: =IF(B14="","",(TODAY()-B14)) -> 24 | D14: mw10 | E14: Gorgonzola | F14: 89AYPIUYQERTPYQERTPUQWèRWQEUP89RWEU439J5JK43HNHF89VYE85THUTH7RYEHGU3BFYH7THBHJ3 7438RHUUF3 8UTR THJ85 T58JT8 3HT58 TGU8 5TJU G85 8548U 58T 85U T854U T89UT GUNGJRWG JGHGUHGUSEH UG HEJHTR
B15: 41696 | C15: =IF(B15="","",(TODAY()-B15)) -> 23 | D15: mw11 | E15: Primosale
B16: 41697 | C16: =IF(B16="","",(TODAY()-B16)) -> 22 | D16: mw12 | E16: Crescenza
B17: 41698 | C17: =IF(B17="","",(TODAY()-B17)) -> 21 | D17: mw13 | E17: Yogurt | F17: Capra, 9h 50°
B18: 41682 | C18: =IF(B18="","",(TODAY()-B18)) -> 37 | D18: mw14 | E18: Yogurt
C19: =IF(B19="","",(TODAY()-B19))
C20: =IF(B20="","",(TODAY()-B20))
C21: =IF(B21="","",(TODAY()-B21))
C22: =IF(B22="","",(TODAY()-B22))
C23: =IF(B23="","",(TODAY()-B23))
C24: =IF(B24="","",(TODAY()-B24))
C25: =IF(B25="","",(TODAY()-B25))
C26: =IF(B26="","",(TODAY()-B26))
C27: =IF(B27="","",(TODAY()-B27))
C28: =IF(B28="","",(TODAY()-B28))
C29: =IF(B29="","",(TODAY()-B29))
C30: =IF(B30="","",(TODAY()-B30))
... C1448: =IF(B1448="","",(TODAY()-B1448))

Sheet Tabella stagionatura
B2: TABELLA STAGIONATURA FORMAGGI ¿ | G2: Data : | H2: =TODAY() -> 41719
B4: LAVORAZIONE | C4: TIPO | D4: INIZIO STAGIONATURA | E4: GIORNI DI STAGIONATURA DESIDERATI | F4: DATA FINE STAGIONATURA | G4: GIORNI TRASCORSI | H4: GIORNI AL TERMINE
B5: =IF(Lavorazioni!D5="","",Lavorazioni!D5) -> mw01 | C5: =IF(Lavorazioni!E5="","",Lavorazioni!E5) -> Branzi | D5: 41686 | E5: 90 | F5: =IF(D5+E5=0,"",D5+E5) -> 41776 | G5: =IF(D5="","",(IF(TODAY()-D5<0,"in programma",TODAY()-D5))) -> 33 | H5: =IF(D5="","",(IF(F5-TODAY()<=0,"Pronto",F5-TODAY()))) -> 57
B6: =IF(Lavorazioni!D6="","",Lavorazioni!D6) -> mw02 | C6: =IF(Lavorazioni!E6="","",Lavorazioni!E6) -> Fontina | D6: 41688 | E6: 22 | F6: =IF(D6+E6=0,"",D6+E6) -> 41710 | G6: =IF(D6="","",(IF(TODAY()-D6<0,"in programma",TODAY()-D6))) -> 31 | H6: =IF(D6="","",(IF(F6-TODAY()<=0,"Pronto",F6-TODAY()))) -> Pronto
B7: =IF(Lavorazioni!D7="","",Lavorazioni!D7) -> mw03 | C7: =IF(Lavorazioni!E7="","",Lavorazioni!E7) -> Mozzarella | F7: =IF(D7+E7=0,"",D7+E7) | G7: =IF(D7="","",(IF(TODAY()-D7<0,"in programma",TODAY()-D7))) | H7: =IF(D7="","",(IF(F7-TODAY()<=0,"Pronto",F7-TODAY())))
B8: =IF(Lavorazioni!D8="","",Lavorazioni!D8) -> mw04 | C8: =IF(Lavorazioni!E8="","",Lavorazioni!E8) -> Gorgonzola | D8: 41998 | F8: =IF(D8+E8=0,"",D8+E8) -> 41998 | G8: =IF(D8="","",(IF(TODAY()-D8<0,"in programma",TODAY()-D8))) -> in programma | H8: =IF(D8="","",(IF(F8-TODAY()<=0,"Pronto",F8-TODAY()))) -> 279
B9: =IF(Lavorazioni!D9="","",Lavorazioni!D9) -> mw05 | C9: =IF(Lavorazioni!E9="","",Lavorazioni!E9) -> Fontina | D9: 41691 | E9: 100 | F9: =IF(D9+E9=0,"",D9+E9) -> 41791 | G9: =IF(D9="","",(IF(TODAY()-D9<0,"in programma",TODAY()-D9))) -> 28 | H9: =IF(D9="","",(IF(F9-TODAY()<=0,"Pronto",F9-TODAY()))) -> 72
B10: =IF(Lavorazioni!D10="","",Lavorazioni!D10) -> mw06 | C10: =IF(Lavorazioni!E10="","",Lavorazioni!E10) -> Mozzarella | F10: =IF(D10+E10=0,"",D10+E10) | G10: =IF(D10="","",(IF(TODAY()-D10<0,"in programma",TODAY()-D10))) | H10: =IF(D10="","",(IF(F10-TODAY()<=0,"Pronto",F10-TODAY())))
B11: =IF(Lavorazioni!D11="","",Lavorazioni!D11) -> mw07 | C11: =IF(Lavorazioni!E11="","",Lavorazioni!E11) -> Gorgonzola | D11: 41691 | E11: 59 | F11: =IF(D11+E11=0,"",D11+E11) -> 41750 | G11: =IF(D11="","",(IF(TODAY()-D11<0,"in programma",TODAY()-D11))) -> 28 | H11: =IF(D11="","",(IF(F11-TODAY()<=0,"Pronto",F11-TODAY()))) -> 31
B12: =IF(Lavorazioni!D12="","",Lavorazioni!D12) -> mw08 | C12: =IF(Lavorazioni!E12="","",Lavorazioni!E12) -> Fontina | D12: 41692 | F12: =IF(D12+E12=0,"",D12+E12) -> 41692 | G12: =IF(D12="","",(IF(TODAY()-D12<0,"in programma",TODAY()-D12))) -> 27 | H12: =IF(D12="","",(IF(F12-TODAY()<=0,"Pronto",F12-TODAY()))) -> Pronto
B13: =IF(Lavorazioni!D13="","",Lavorazioni!D13) -> mw09 | C13: =IF(Lavorazioni!E13="","",Lavorazioni!E13) -> Mozzarella | F13: =IF(D13+E13=0,"",D13+E13) | G13: =IF(D13="","",(IF(TODAY()-D13<0,"in programma",TODAY()-D13))) | H13: =IF(D13="","",(IF(F13-TODAY()<=0,"Pronto",F13-TODAY())))
B14: =IF(Lavorazioni!D14="","",Lavorazioni!D14) -> mw10 | C14: =IF(Lavorazioni!E14="","",Lavorazioni!E14) -> Gorgonzola | D14: 41692 | E14: 60 | F14: =IF(D14+E14=0,"",D14+E14) -> 41752 | G14: =IF(D14="","",(IF(TODAY()-D14<0,"in programma",TODAY()-D14))) -> 27 | H14: =IF(D14="","",(IF(F14-TODAY()<=0,"Pronto",F14-TODAY()))) -> 33
B15: =IF(Lavorazioni!D15="","",Lavorazioni!D15) -> mw11 | C15: =IF(Lavorazioni!E15="","",Lavorazioni!E15) -> Primosale | F15: =IF(D15+E15=0,"",D15+E15) | G15: =IF(D15="","",(IF(TODAY()-D15<0,"in programma",TODAY()-D15))) | H15: =IF(D15="","",(IF(F15-TODAY()<=0,"Pronto",F15-TODAY())))
B16: =IF(Lavorazioni!D16="","",Lavorazioni!D16) -> mw12 | C16: =IF(Lavorazioni!E16="","",Lavorazioni!E16) -> Crescenza | D16: 41697 | E16: 3 | F16: =IF(D16+E16=0,"",D16+E16) -> 41700 | G16: =IF(D16="","",(IF(TODAY()-D16<0,"in programma",TODAY()-D16))) -> 22 | H16: =IF(D16="","",(IF(F16-TODAY()<=0,"Pronto",F16-TODAY()))) -> Pronto
B17: =IF(Lavorazioni!D17="","",Lavorazioni!D17) -> mw13 | C17: =IF(Lavorazioni!E17="","",Lavorazioni!E17) -> Yogurt | D17: 41716 | E17: 3 | F17: =IF(D17+E17=0,"",D17+E17) -> 41719 | G17: =IF(D17="","",(IF(TODAY()-D17<0,"in programma",TODAY()-D17))) -> 3 | H17: =IF(D17="","",(IF(F17-TODAY()<=0,"Pronto",F17-TODAY()))) -> Pronto
B18: =IF(Lavorazioni!D18="","",Lavorazioni!D18) -> mw14 | C18: =IF(Lavorazioni!E18="","",Lavorazioni!E18) -> Yogurt | D18: 41717 | E18: 3 | F18: =IF(D18+E18=0,"",D18+E18) -> 41720 | G18: =IF(D18="","",(IF(TODAY()-D18<0,"in programma",TODAY()-D18))) -> 2 | H18: =IF(D18="","",(IF(F18-TODAY()<=0,"Pronto",F18-TODAY()))) -> 1
B19: =IF(Lavorazioni!D19="","",Lavorazioni!D19) | C19: =IF(Lavorazioni!E19="","",Lavorazioni!E19) | F19: =IF(D19+E19=0,"",D19+E19) | G19: =IF(D19="","",(IF(TODAY()-D19<0,"in programma",TODAY()-D19))) | H19: =IF(D19="","",(IF(F19-TODAY()<=0,"Pronto",F19-TODAY())))
B20: =IF(Lavorazioni!D20="","",Lavorazioni!D20) | C20: =IF(Lavorazioni!E20="","",Lavorazioni!E20) | F20: =IF(D20+E20=0,"",D20+E20) | G20: =IF(D20="","",(IF(TODAY()-D20<0,"in programma",TODAY()-D20))) | H20: =IF(D20="","",(IF(F20-TODAY()<=0,"Pronto",F20-TODAY())))
B21: =IF(Lavorazioni!D21="","",Lavorazioni!D21) | C21: =IF(Lavorazioni!E21="","",Lavorazioni!E21) | F21: =IF(D21+E21=0,"",D21+E21) | G21: =IF(D21="","",(IF(TODAY()-D21<0,"in programma",TODAY()-D21))) | H21: =IF(D21="","",(IF(F21-TODAY()<=0,"Pronto",F21-TODAY())))
B22: =IF(Lavorazioni!D22="","",Lavorazioni!D22) | C22: =IF(Lavorazioni!E22="","",Lavorazioni!E22) | F22: =IF(D22+E22=0,"",D22+E22) | G22: =IF(D22="","",(IF(TODAY()-D22<0,"in programma",TODAY()-D22))) | H22: =IF(D22="","",(IF(F22-TODAY()<=0,"Pronto",F22-TODAY())))
B23: =IF(Lavorazioni!D23="","",Lavorazioni!D23) | C23: =IF(Lavorazioni!E23="","",Lavorazioni!E23) | F23: =IF(D23+E23=0,"",D23+E23) | G23: =IF(D23="","",(IF(TODAY()-D23<0,"in programma",TODAY()-D23))) | H23: =IF(D23="","",(IF(F23-TODAY()<=0,"Pronto",F23-TODAY())))
B24: =IF(Lavorazioni!D24="","",Lavorazioni!D24) | C24: =IF(Lavorazioni!E24="","",Lavorazioni!E24) | F24: =IF(D24+E24=0,"",D24+E24) | G24: =IF(D24="","",(IF(TODAY()-D24<0,"in programma",TODAY()-D24))) | H24: =IF(D24="","",(IF(F24-TODAY()<=0,"Pronto",F24-TODAY())))
B25: =IF(Lavorazioni!D25="","",Lavorazioni!D25) | C25: =IF(Lavorazioni!E25="","",Lavorazioni!E25) | F25: =IF(D25+E25=0,"",D25+E25) | G25: =IF(D25="","",(IF(TODAY()-D25<0,"in programma",TODAY()-D25))) | H25: =IF(D25="","",(IF(F25-TODAY()<=0,"Pronto",F25-TODAY())))
B26: =IF(Lavorazioni!D26="","",Lavorazioni!D26) | C26: =IF(Lavorazioni!E26="","",Lavorazioni!E26) | F26: =IF(D26+E26=0,"",D26+E26) | G26: =IF(D26="","",(IF(TODAY()-D26<0,"in programma",TODAY()-D26))) | H26: =IF(D26="","",(IF(F26-TODAY()<=0,"Pronto",F26-TODAY())))
B27: =IF(Lavorazioni!D27="","",Lavorazioni!D27) | C27: =IF(Lavorazioni!E27="","",Lavorazioni!E27) | F27: =IF(D27+E27=0,"",D27+E27) | G27: =IF(D27="","",(IF(TODAY()-D27<0,"in programma",TODAY()-D27))) | H27: =IF(D27="","",(IF(F27-TODAY()<=0,"Pronto",F27-TODAY())))
B28: =IF(Lavorazioni!D28="","",Lavorazioni!D28) | C28: =IF(Lavorazioni!E28="","",Lavorazioni!E28) | F28: =IF(D28+E28=0,"",D28+E28) | G28: =IF(D28="","",(IF(TODAY()-D28<0,"in programma",TODAY()-D28))) | H28: =IF(D28="","",(IF(F28-TODAY()<=0,"Pronto",F28-TODAY())))
B29: =IF(Lavorazioni!D29="","",Lavorazioni!D29) | C29: =IF(Lavorazioni!E29="","",Lavorazioni!E29) | F29: =IF(D29+E29=0,"",D29+E29) | G29: =IF(D29="","",(IF(TODAY()-D29<0,"in programma",TODAY()-D29))) | H29: =IF(D29="","",(IF(F29-TODAY()<=0,"Pronto",F29-TODAY())))
B30: =IF(Lavorazioni!D30="","",Lavorazioni!D30) | C30: =IF(Lavorazioni!E30="","",Lavorazioni!E30) | F30: =IF(D30+E30=0,"",D30+E30) | G30: =IF(D30="","",(IF(TODAY()-D30<0,"in programma",TODAY()-D30))) | H30: =IF(D30="","",(IF(F30-TODAY()<=0,"Pronto",F30-TODAY())))
... B1448: =IF(Lavorazioni!D1448="","",Lavorazioni!D1448) | C1448: =IF(Lavorazioni!E1448="","",Lavorazioni!E1448) | F1448: =IF(D1448+E1448=0,"",D1448+E1448) | G1448: =IF(D1448="","",(IF(TODAY()-D1448<0,"in programma",TODAY()-D1448))) | H1448: =IF(D1448="","",(IF(F1448-TODAY()<=0,"Pronto",F1448-TODAY())))
B1449: =IF(Lavorazioni!#REF!="","",Lavorazioni!#REF!) -> #REF! | C1449: =IF(Lavorazioni!#REF!="","",Lavorazioni!#REF!) -> #REF! | F1449: =IF(D1449+E1449=0,"",D1449+E1449) | G1449: =IF(D1449="","",(IF(TODAY()-D1449<0,"in programma",TODAY()-D1449))) | H1449: =IF(D1449="","",(IF(F1449-TODAY()<=0,"Pronto",F1449-TODAY())))
B1450: =IF(Lavorazioni!#REF!="","",Lavorazioni!#REF!) -> #REF! | C1450: =IF(Lavorazioni!#REF!="","",Lavorazioni!#REF!) -> #REF! | F1450: =IF(D1450+E1450=0,"",D1450+E1450) | G1450: =IF(D1450="","",(IF(TODAY()-D1450<0,"in programma",TODAY()-D1450))) | H1450: =IF(D1450="","",(IF(F1450-TODAY()<=0,"Pronto",F1450-TODAY())))
B1451: =IF(Lavorazioni!#REF!="","",Lavorazioni!#REF!) -> #REF! | C1451: =IF(Lavorazioni!#REF!="","",Lavorazioni!#REF!) -> #REF! | F1451: =IF(D1451+E1451=0,"",D1451+E1451) | G1451: =IF(D1451="","",(IF(TODAY()-D1451<0,"in programma",TODAY()-D1451))) | H1451: =IF(D1451="","",(IF(F1451-TODAY()<=0,"Pronto",F1451-TODAY())))
B1452: =IF(Lavorazioni!#REF!="","",Lavorazioni!#REF!) -> #REF! | C1452: =IF(Lavorazioni!#REF!="","",Lavorazioni!#REF!) -> #REF! | F1452: =IF(D1452+E1452=0,"",D1452+E1452) | G1452: =IF(D1452="","",(IF(TODAY()-D1452<0,"in programma",TODAY()-D1452))) | H1452: =IF(D1452="","",(IF(F1452-TODAY()<=0,"Pronto",F1452-TODAY())))
B1453: =IF(Lavorazioni!#REF!="","",Lavorazioni!#REF!) -> #REF! | C1453: =IF(Lavorazioni!#REF!="","",Lavorazioni!#REF!) -> #REF! | F1453: =IF(D1453+E1453=0,"",D1453+E1453) | G1453: =IF(D1453="","",(IF(TODAY()-D1453<0,"in programma",TODAY()-D1453))) | H1453: =IF(D1453="","",(IF(F1453-TODAY()<=0,"Pronto",F1453-TODAY())))
B1454: =IF(Lavorazioni!#REF!="","",Lavorazioni!#REF!) -> #REF! | C1454: =IF(Lavorazioni!#REF!="","",Lavorazioni!#REF!) -> #REF! | F1454: =IF(D1454+E1454=0,"",D1454+E1454) | G1454: =IF(D1454="","",(IF(TODAY()-D1454<0,"in programma",TODAY()-D1454))) | H1454: =IF(D1454="","",(IF(F1454-TODAY()<=0,"Pronto",F1454-TODAY())))
B1455: =IF(Lavorazioni!#REF!="","",Lavorazioni!#REF!) -> #REF! | C1455: =IF(Lavorazioni!#REF!="","",Lavorazioni!#REF!) -> #REF! | F1455: =IF(D1455+E1455=0,"",D1455+E1455) | G1455: =IF(D1455="","",(IF(TODAY()-D1455<0,"in programma",TODAY()-D1455))) | H1455: =IF(D1455="","",(IF(F1455-TODAY()<=0,"Pronto",F1455-TODAY())))
B1456: =IF(Lavorazioni!#REF!="","",Lavorazioni!#REF!) -> #REF! | C1456: =IF(Lavorazioni!#REF!="","",Lavorazioni!#REF!) -> #REF! | F1456: =IF(D1456+E1456=0,"",D1456+E1456) | G1456: =IF(D1456="","",(IF(TODAY()-D1456<0,"in programma",TODAY()-D1456))) | H1456: =IF(D1456="","",(IF(F1456-TODAY()<=0,"Pronto",F1456-TODAY())))
B1457: =IF(Lavorazioni!#REF!="","",Lavorazioni!#REF!) -> #REF! | C1457: =IF(Lavorazioni!#REF!="","",Lavorazioni!#REF!) -> #REF! | F1457: =IF(D1457+E1457=0,"",D1457+E1457) | G1457: =IF(D1457="","",(IF(TODAY()-D1457<0,"in programma",TODAY()-D1457))) | H1457: =IF(D1457="","",(IF(F1457-TODAY()<=0,"Pronto",F1457-TODAY())))
B1458: =IF(Lavorazioni!#REF!="","",Lavorazioni!#REF!) -> #REF! | C1458: =IF(Lavorazioni!#REF!="","",Lavorazioni!#REF!) -> #REF! | F1458: =IF(D1458+E1458=0,"",D1458+E1458) | G1458: =IF(D1458="","",(IF(TODAY()-D1458<0,"in programma",TODAY()-D1458))) | H1458: =IF(D1458="","",(IF(F1458-TODAY()<=0,"Pronto",F1458-TODAY())))
B1459: =IF(Lavorazioni!#REF!="","",Lavorazioni!#REF!) -> #REF! | C1459: =IF(Lavorazioni!#REF!="","",Lavorazioni!#REF!) -> #REF! | F1459: =IF(D1459+E1459=0,"",D1459+E1459) | G1459: =IF(D1459="","",(IF(TODAY()-D1459<0,"in programma",TODAY()-D1459))) | H1459: =IF(D1459="","",(IF(F1459-TODAY()<=0,"Pronto",F1459-TODAY())))
B1460: =IF(Lavorazioni!#REF!="","",Lavorazioni!#REF!) -> #REF! | C1460: =IF(Lavorazioni!#REF!="","",Lavorazioni!#REF!) -> #REF! | F1460: =IF(D1460+E1460=0,"",D1460+E1460) | G1460: =IF(D1460="","",(IF(TODAY()-D1460<0,"in programma",TODAY()-D1460))) | H1460: =IF(D1460="","",(IF(F1460-TODAY()<=0,"Pronto",F1460-TODAY())))
... B2164: =IF(Lavorazioni!#REF!="","",Lavorazioni!#REF!) -> #REF! | C2164: =IF(Lavorazioni!#REF!="","",Lavorazioni!#REF!) -> #REF! | F2164: =IF(D2164+E2164=0,"",D2164+E2164) | G2164: =IF(D2164="","",(IF(TODAY()-D2164<0,"in programma",TODAY()-D2164))) | H2164: =IF(D2164="","",(IF(F2164-TODAY()<=0,"Pronto",F2164-TODAY())))

Sheet Calcolo delle rese
B2: CALCOLO DELLE RESE $ | J2: Data : | K2: =TODAY() -> 41719
B4: LAVORAZIONE | C4: TIPO | D4: INFO | E4: Data pesata finale | F4: Litri di latte | G4: Peso cagliata (g) | H4: Resa % cagliata | I4: Peso a fine stagionatura (g) | J4: Resa % finale | K4: ∆% Resa
B5: =IF(Lavorazioni!D5="","",Lavorazioni!D5) -> mw01 | C5: =IF(Lavorazioni!E5="","",Lavorazioni!E5) -> Branzi | D5: 60 giorni | E5: 41778 | F5: 23.7 | G5: 2800 | H5: =IF(F5="","",(IF(G5="","",G5/(F5*1000)))) -> 0.11814346 | I5: 2700 | J5: =IF(F5="","",(IF(I5="","",I5/(F5*1000)))) -> 0.11392405 | K5: =IF(J5="","",(IF(H5="","",J5-H5))) -> -0.0042194093
B6: =IF(Lavorazioni!D6="","",Lavorazioni!D6) -> mw02 | C6: =IF(Lavorazioni!E6="","",Lavorazioni!E6) -> Fontina | E6: 41633 | F6: 15 | G6: 5555 | H6: =IF(F6="","",(IF(G6="","",G6/(F6*1000)))) -> 0.37033333 | I6: 5556 | J6: =IF(F6="","",(IF(I6="","",I6/(F6*1000)))) -> 0.3704 | K6: =IF(J6="","",(IF(H6="","",J6-H6))) -> 6.6666667e-05
B7: =IF(Lavorazioni!D7="","",Lavorazioni!D7) -> mw03 | C7: =IF(Lavorazioni!E7="","",Lavorazioni!E7) -> Mozzarella | D7: Pesata finale a 24 h | E7: 41640 | F7: 19 | G7: 8310 | H7: =IF(F7="","",(IF(G7="","",G7/(F7*1000)))) -> 0.43736842 | I7: 90000 | J7: =IF(F7="","",(IF(I7="","",I7/(F7*1000)))) -> 4.7368421 | K7: =IF(J7="","",(IF(H7="","",J7-H7))) -> 4.2994737
B8: =IF(Lavorazioni!D8="","",Lavorazioni!D8) -> mw04 | C8: =IF(Lavorazioni!E8="","",Lavorazioni!E8) -> Gorgonzola | D8: finale a 45 giorni | E8: 23959 | F8: 100 | G8: 11065 | H8: =IF(F8="","",(IF(G8="","",G8/(F8*1000)))) -> 0.11065 | I8: 15000 | J8: =IF(F8="","",(IF(I8="","",I8/(F8*1000)))) -> 0.15 | K8: =IF(J8="","",(IF(H8="","",J8-H8))) -> 0.03935
B9: =IF(Lavorazioni!D9="","",Lavorazioni!D9) -> mw05 | C9: =IF(Lavorazioni!E9="","",Lavorazioni!E9) -> Fontina | D9: 61 giorni | E9: 41633 | F9: 80 | G9: 13820 | H9: =IF(F9="","",(IF(G9="","",G9/(F9*1000)))) -> 0.17275 | I9: 8627.5 | J9: =IF(F9="","",(IF(I9="","",I9/(F9*1000)))) -> 0.10784375 | K9: =IF(J9="","",(IF(H9="","",J9-H9))) -> -0.06490625
B10: =IF(Lavorazioni!D10="","",Lavorazioni!D10) -> mw06 | C10: =IF(Lavorazioni!E10="","",Lavorazioni!E10) -> Mozzarella | D10: a 24 h | E10: 41640 | F10: 80 | G10: 16575 | H10: =IF(F10="","",(IF(G10="","",G10/(F10*1000)))) -> 0.2071875 | I10: 9977.4 | J10: =IF(F10="","",(IF(I10="","",I10/(F10*1000)))) -> 0.1247175 | K10: =IF(J10="","",(IF(H10="","",J10-H10))) -> -0.08247
B11: =IF(Lavorazioni!D11="","",Lavorazioni!D11) -> mw07 | C11: =IF(Lavorazioni!E11="","",Lavorazioni!E11) -> Gorgonzola | E11: 23959 | F11: 15.9 | H11: =IF(F11="","",(IF(G11="","",G11/(F11*1000)))) | I11: 11327.3 | J11: =IF(F11="","",(IF(I11="","",I11/(F11*1000)))) -> 0.71240881 | K11: =IF(J11="","",(IF(H11="","",J11-H11)))
B12: =IF(Lavorazioni!D12="","",Lavorazioni!D12) -> mw08 | C12: =IF(Lavorazioni!E12="","",Lavorazioni!E12) -> Fontina | D12: 46 giorni | E12: 41633 | F12: 80 | G12: 22085 | H12: =IF(F12="","",(IF(G12="","",G12/(F12*1000)))) -> 0.2760625 | I12: 12677.2 | J12: =IF(F12="","",(IF(I12="","",I12/(F12*1000)))) -> 0.158465 | K12: =IF(J12="","",(IF(H12="","",J12-H12))) -> -0.1175975
B13: =IF(Lavorazioni!D13="","",Lavorazioni!D13) -> mw09 | C13: =IF(Lavorazioni!E13="","",Lavorazioni!E13) -> Mozzarella | D13: 62 giorni | E13: 41640 | F13: 80 | G13: 24840 | H13: =IF(F13="","",(IF(G13="","",G13/(F13*1000)))) -> 0.3105 | J13: =IF(F13="","",(IF(I13="","",I13/(F13*1000)))) | K13: =IF(J13="","",(IF(H13="","",J13-H13)))
B14: =IF(Lavorazioni!D14="","",Lavorazioni!D14) -> mw10 | C14: =IF(Lavorazioni!E14="","",Lavorazioni!E14) -> Gorgonzola | E14: 23959 | F14: 80 | G14: 27595 | H14: =IF(F14="","",(IF(G14="","",G14/(F14*1000)))) -> 0.3449375 | I14: 15377 | J14: =IF(F14="","",(IF(I14="","",I14/(F14*1000)))) -> 0.1922125 | K14: =IF(J14="","",(IF(H14="","",J14-H14))) -> -0.152725
B15: =IF(Lavorazioni!D15="","",Lavorazioni!D15) -> mw11 | C15: =IF(Lavorazioni!E15="","",Lavorazioni!E15) -> Primosale | D15: Pesato la cagliata dopo 5 ore e mezza dai rivoltamenti | E15: 41633 | F15: 80 | G15: 88005 | H15: =IF(F15="","",(IF(G15="","",G15/(F15*1000)))) -> 1.1000625 | I15: 88000 | J15: =IF(F15="","",(IF(I15="","",I15/(F15*1000)))) -> 1.1 | K15: =IF(J15="","",(IF(H15="","",J15-H15))) -> -6.25e-05
B16: =IF(Lavorazioni!D16="","",Lavorazioni!D16) -> mw12 | C16: =IF(Lavorazioni!E16="","",Lavorazioni!E16) -> Crescenza | D16: 47 giorni | E16: 41640 | F16: 80 | G16: 33105 | H16: =IF(F16="","",(IF(G16="","",G16/(F16*1000)))) -> 0.4138125 | I16: 18076.8 | J16: =IF(F16="","",(IF(I16="","",I16/(F16*1000)))) -> 0.22596 | K16: =IF(J16="","",(IF(H16="","",J16-H16))) -> -0.1878525
B17: =IF(Lavorazioni!D17="","",Lavorazioni!D17) -> mw13 | C17: =IF(Lavorazioni!E17="","",Lavorazioni!E17) -> Yogurt | E17: 41718 | F17: 10 | G17: 33105 | H17: =IF(F17="","",(IF(G17="","",G17/(F17*1000)))) -> 3.3105 | I17: 9980 | J17: =IF(F17="","",(IF(I17="","",I17/(F17*1000)))) -> 0.998 | K17: =IF(J17="","",(IF(H17="","",J17-H17))) -> -2.3125
B18: =IF(Lavorazioni!D18="","",Lavorazioni!D18) -> mw14 | C18: =IF(Lavorazioni!E18="","",Lavorazioni!E18) -> Yogurt | E18: 41719 | F18: 10 | G18: 33105 | H18: =IF(F18="","",(IF(G18="","",G18/(F18*1000)))) -> 3.3105 | I18: 9980 | J18: =IF(F18="","",(IF(I18="","",I18/(F18*1000)))) -> 0.998 | K18: =IF(J18="","",(IF(H18="","",J18-H18))) -> -2.3125
B19: =IF(Lavorazioni!D19="","",Lavorazioni!D19) | C19: =IF(Lavorazioni!E19="","",Lavorazioni!E19) | E19: 41720 | H19: =IF(F19="","",(IF(G19="","",G19/(F19*1000)))) | J19: =IF(F19="","",(IF(I19="","",I19/(F19*1000)))) | K19: =IF(J19="","",(IF(H19="","",J19-H19)))
B20: =IF(Lavorazioni!D20="","",Lavorazioni!D20) | C20: =IF(Lavorazioni!E20="","",Lavorazioni!E20) | H20: =IF(F20="","",(IF(G20="","",G20/(F20*1000)))) | J20: =IF(F20="","",(IF(I20="","",I20/(F20*1000)))) | K20: =IF(J20="","",(IF(H20="","",J20-H20)))
B21: =IF(Lavorazioni!D21="","",Lavorazioni!D21) | C21: =IF(Lavorazioni!E21="","",Lavorazioni!E21) | H21: =IF(F21="","",(IF(G21="","",G21/(F21*1000)))) | J21: =IF(F21="","",(IF(I21="","",I21/(F21*1000)))) | K21: =IF(J21="","",(IF(H21="","",J21-H21)))
B22: =IF(Lavorazioni!D22="","",Lavorazioni!D22) | C22: =IF(Lavorazioni!E22="","",Lavorazioni!E22) | H22: =IF(F22="","",(IF(G22="","",G22/(F22*1000)))) | J22: =IF(F22="","",(IF(I22="","",I22/(F22*1000)))) | K22: =IF(J22="","",(IF(H22="","",J22-H22)))
B23: =IF(Lavorazioni!D23="","",Lavorazioni!D23) | C23: =IF(Lavorazioni!E23="","",Lavorazioni!E23) | H23: =IF(F23="","",(IF(G23="","",G23/(F23*1000)))) | J23: =IF(F23="","",(IF(I23="","",I23/(F23*1000)))) | K23: =IF(J23="","",(IF(H23="","",J23-H23)))
B24: =IF(Lavorazioni!D24="","",Lavorazioni!D24) | C24: =IF(Lavorazioni!E24="","",Lavorazioni!E24) | H24: =IF(F24="","",(IF(G24="","",G24/(F24*1000)))) | J24: =IF(F24="","",(IF(I24="","",I24/(F24*1000)))) | K24: =IF(J24="","",(IF(H24="","",J24-H24)))
B25: =IF(Lavorazioni!D25="","",Lavorazioni!D25) | C25: =IF(Lavorazioni!E25="","",Lavorazioni!E25) | H25: =IF(F25="","",(IF(G25="","",G25/(F25*1000)))) | J25: =IF(F25="","",(IF(I25="","",I25/(F25*1000)))) | K25: =IF(J25="","",(IF(H25="","",J25-H25)))
B26: =IF(Lavorazioni!D26="","",Lavorazioni!D26) | C26: =IF(Lavorazioni!E26="","",Lavorazioni!E26) | H26: =IF(F26="","",(IF(G26="","",G26/(F26*1000)))) | J26: =IF(F26="","",(IF(I26="","",I26/(F26*1000)))) | K26: =IF(J26="","",(IF(H26="","",J26-H26)))
B27: =IF(Lavorazioni!D27="","",Lavorazioni!D27) | C27: =IF(Lavorazioni!E27="","",Lavorazioni!E27) | H27: =IF(F27="","",(IF(G27="","",G27/(F27*1000)))) | J27: =IF(F27="","",(IF(I27="","",I27/(F27*1000)))) | K27: =IF(J27="","",(IF(H27="","",J27-H27)))
B28: =IF(Lavorazioni!D28="","",Lavorazioni!D28) | C28: =IF(Lavorazioni!E28="","",Lavorazioni!E28) | H28: =IF(F28="","",(IF(G28="","",G28/(F28*1000)))) | J28: =IF(F28="","",(IF(I28="","",I28/(F28*1000)))) | K28: =IF(J28="","",(IF(H28="","",J28-H28)))
B29: =IF(Lavorazioni!D29="","",Lavorazioni!D29) | C29: =IF(Lavorazioni!E29="","",Lavorazioni!E29) | H29: =IF(F29="","",(IF(G29="","",G29/(F29*1000)))) | J29: =IF(F29="","",(IF(I29="","",I29/(F29*1000)))) | K29: =IF(J29="","",(IF(H29="","",J29-H29)))
B30: =IF(Lavorazioni!D30="","",Lavorazioni!D30) | C30: =IF(Lavorazioni!E30="","",Lavorazioni!E30) | H30: =IF(F30="","",(IF(G30="","",G30/(F30*1000)))) | J30: =IF(F30="","",(IF(I30="","",I30/(F30*1000)))) | K30: =IF(J30="","",(IF(H30="","",J30-H30)))
B31: =IF(Lavorazioni!D31="","",Lavorazioni!D31) | C31: =IF(Lavorazioni!E31="","",Lavorazioni!E31) | H31: =IF(F31="","",(IF(G31="","",G31/(F31*1000)))) | J31: =IF(F31="","",(IF(I31="","",I31/(F31*1000)))) | K31: =IF(J31="","",(IF(H31="","",J31-H31)))
... B1448: =IF(Lavorazioni!D1448="","",Lavorazioni!D1448) | C1448: =IF(Lavorazioni!E1448="","",Lavorazioni!E1448) | H1448: =IF(F1448="","",(IF(G1448="","",G1448/(F1448*1000)))) | J1448: =IF(F1448="","",(IF(I1448="","",I1448/(F1448*1000)))) | K1448: =IF(J1448="","",(IF(H1448="","",J1448-H1448)))
B1449: =IF(Lavorazioni!#REF!="","",Lavorazioni!#REF!) -> #REF! | C1449: =IF(Lavorazioni!#REF!="","",Lavorazioni!#REF!) -> #REF! | H1449: =IF(F1449="","",(IF(G1449="","",G1449/(F1449*1000)))) | J1449: =IF(F1449="","",(IF(I1449="","",I1449/(F1449*1000)))) | K1449: =IF(J1449="","",(IF(H1449="","",J1449-H1449)))
B1450: =IF(Lavorazioni!#REF!="","",Lavorazioni!#REF!) -> #REF! | C1450: =IF(Lavorazioni!#REF!="","",Lavorazioni!#REF!) -> #REF! | H1450: =IF(F1450="","",(IF(G1450="","",G1450/(F1450*1000)))) | J1450: =IF(F1450="","",(IF(I1450="","",I1450/(F1450*1000)))) | K1450: =IF(J1450="","",(IF(H1450="","",J1450-H1450)))
B1451: =IF(Lavorazioni!#REF!="","",Lavorazioni!#REF!) -> #REF! | C1451: =IF(Lavorazioni!#REF!="","",Lavorazioni!#REF!) -> #REF! | H1451: =IF(F1451="","",(IF(G1451="","",G1451/(F1451*1000)))) | J1451: =IF(F1451="","",(IF(I1451="","",I1451/(F1451*1000)))) | K1451: =IF(J1451="","",(IF(H1451="","",J1451-H1451)))
B1452: =IF(Lavorazioni!#REF!="","",Lavorazioni!#REF!) -> #REF! | C1452: =IF(Lavorazioni!#REF!="","",Lavorazioni!#REF!) -> #REF! | H1452: =IF(F1452="","",(IF(G1452="","",G1452/(F1452*1000)))) | J1452: =IF(F1452="","",(IF(I1452="","",I1452/(F1452*1000)))) | K1452: =IF(J1452="","",(IF(H1452="","",J1452-H1452)))
B1453: =IF(Lavorazioni!#REF!="","",Lavorazioni!#REF!) -> #REF! | C1453: =IF(Lavorazioni!#REF!="","",Lavorazioni!#REF!) -> #REF! | H1453: =IF(F1453="","",(IF(G1453="","",G1453/(F1453*1000)))) | J1453: =IF(F1453="","",(IF(I1453="","",I1453/(F1453*1000)))) | K1453: =IF(J1453="","",(IF(H1453="","",J1453-H1453)))
B1454: =IF(Lavorazioni!#REF!="","",Lavorazioni!#REF!) -> #REF! | C1454: =IF(Lavorazioni!#REF!="","",Lavorazioni!#REF!) -> #REF! | H1454: =IF(F1454="","",(IF(G1454="","",G1454/(F1454*1000)))) | J1454: =IF(F1454="","",(IF(I1454="","",I1454/(F1454*1000)))) | K1454: =IF(J1454="","",(IF(H1454="","",J1454-H1454)))
B1455: =IF(Lavorazioni!#REF!="","",Lavorazioni!#REF!) -> #REF! | C1455: =IF(Lavorazioni!#REF!="","",Lavorazioni!#REF!) -> #REF! | H1455: =IF(F1455="","",(IF(G1455="","",G1455/(F1455*1000)))) | J1455: =IF(F1455="","",(IF(I1455="","",I1455/(F1455*1000)))) | K1455: =IF(J1455="","",(IF(H1455="","",J1455-H1455)))
B1456: =IF(Lavorazioni!#REF!="","",Lavorazioni!#REF!) -> #REF! | C1456: =IF(Lavorazioni!#REF!="","",Lavorazioni!#REF!) -> #REF! | H1456: =IF(F1456="","",(IF(G1456="","",G1456/(F1456*1000)))) | J1456: =IF(F1456="","",(IF(I1456="","",I1456/(F1456*1000)))) | K1456: =IF(J1456="","",(IF(H1456="","",J1456-H1456)))
B1457: =IF(Lavorazioni!#REF!="","",Lavorazioni!#REF!) -> #REF! | C1457: =IF(Lavorazioni!#REF!="","",Lavorazioni!#REF!) -> #REF! | H1457: =IF(F1457="","",(IF(G1457="","",G1457/(F1457*1000)))) | J1457: =IF(F1457="","",(IF(I1457="","",I1457/(F1457*1000)))) | K1457: =IF(J1457="","",(IF(H1457="","",J1457-H1457)))
B1458: =IF(Lavorazioni!#REF!="","",Lavorazioni!#REF!) -> #REF! | C1458: =IF(Lavorazioni!#REF!="","",Lavorazioni!#REF!) -> #REF! | H1458: =IF(F1458="","",(IF(G1458="","",G1458/(F1458*1000)))) | J1458: =IF(F1458="","",(IF(I1458="","",I1458/(F1458*1000)))) | K1458: =IF(J1458="","",(IF(H1458="","",J1458-H1458)))
B1459: =IF(Lavorazioni!#REF!="","",Lavorazioni!#REF!) -> #REF! | C1459: =IF(Lavorazioni!#REF!="","",Lavorazioni!#REF!) -> #REF! | H1459: =IF(F1459="","",(IF(G1459="","",G1459/(F1459*1000)))) | J1459: =IF(F1459="","",(IF(I1459="","",I1459/(F1459*1000)))) | K1459: =IF(J1459="","",(IF(H1459="","",J1459-H1459)))
B1460: =IF(Lavorazioni!#REF!="","",Lavorazioni!#REF!) -> #REF! | C1460: =IF(Lavorazioni!#REF!="","",Lavorazioni!#REF!) -> #REF! | H1460: =IF(F1460="","",(IF(G1460="","",G1460/(F1460*1000)))) | J1460: =IF(F1460="","",(IF(I1460="","",I1460/(F1460*1000)))) | K1460: =IF(J1460="","",(IF(H1460="","",J1460-H1460)))
... B3426: =IF(Lavorazioni!#REF!="","",Lavorazioni!#REF!) -> #REF! | C3426: =IF(Lavorazioni!#REF!="","",Lavorazioni!#REF!) -> #REF! | H3426: =IF(F3426="","",(IF(G3426="","",G3426/(F3426*1000)))) | J3426: =IF(F3426="","",(IF(I3426="","",I3426/(F3426*1000)))) | K3426: =IF(J3426="","",(IF(H3426="","",J3426-H3426)))

Sheet Calcoli rapidi
B2: CALCOLI RAPIDI
B5: RESA % | D5: =IF(D7="","",(IF(D8="","",D8/(D7*1000)))) -> 0.11687764 | H5: DATA DI FINE STAGIONATURA | K5: =IF(K7+K8=0,"",K7+K8) -> 41867
B7: Latte usato (L) | D7: 23.7 | H7: Data di inizio | K7: 41685
B8: Peso (g) | D8: 2770 | H8: Numero di giorni | K8: 182
B11: CONVERSIONE PESO | E11: kg | F11: g | H11: CONVERSIONE MESI IN GIORNI | K11: =K13*30.4 -> 243.2
B12: CONVERSIONE g → kg | E12: =CONVERT(F12,"g","kg") -> 1.56 | F12: 1560
B13: CONVERSIONE Kg → g | E13: 1.75 | F13: =CONVERT(E13,"kg","g") -> 1750 | H13: Numero di mesi | K13: 8
