Workbook

Sheet FABBISOGNI
E2: FABBISOGNI NUTRITIVI COMPLESSIVI DELL'ALLEVAMENTO
T3: Età Nati
D4: In allattamento | F4: In asciutta | H4: in gestazione | K4: STIMA CICLO TOTALE | M4: Nome scrofa | O4: Nata | P4: Parto | Q4: Oggi | R4: Età | S4: N° nati | T4: Età (gg) | U4: N° nati | V4: Inseminazione
C5: N° Tot | D5: N° | E5: kg Man | F5: N° | G5: Kg | H5: N° | I5: Kg | K5: Ciclo/capo (kg)
A6: N° Scrofe | C6: =SUMIFS(N6:N7,T6:T7,">0") -> 0 | E6: 5.5 | F6: =SUMIFS(N6:N7,T6:T7,">30") -> 0 | G6: 3.1 | H6: 0 | I6: 2.5 | M6: Peppa | N6: 1 | O6: 42154 | P6: =DATE(0,4,24) + V6 -> 42484 | Q6: =NOW() -> 42375.036 | R6: =ROUND(Q6-O6,0) -> 221 | S6: 12 | T6: =ROUND(Q6-P6,0) -> -109 | V6: 42369
E7: =E6*D6 -> 0 | G7: =F6*G6 -> 0 | I7: =H6*I6 -> 0 | K7: =E6*365 -> 2007.5 | M7: Giovanna | N7: 1 | R7: =ROUND(Q7-O7,0) -> 0 | T7: =ROUND(Q7-P7,0) -> 0
A9: N°Scrofette | C9: =SUMIFS(N6:N7,T6:T7,"<1") -> 2 | E9: 2.5 | F9: =E9*C9 -> 5 | K9: -
A12: N°Suinetti 0-15gg | C12: =SUMIFS(S6:S7,T6:T7,"<15",T6:T7,">0") -> 0 | E12: Latte Colostrale
E14: Kg Man | F14: Kg/week | K14: Ciclo unitario/capo (kg)
A15: N°Suinetti 15-30gg | C15: =SUMIFS(S6:S7,T6:T7,"<30",T6:T7,">14") -> 0 | E15: 1.7 | F15: =E15*C15*7 -> 0 | K15: =E15*15 -> 25.5
A18: N°Suinetti 30-45gg | C18: =SUMIFS(S6:S7,T6:T7,"<45",T6:T7,">29") -> 0 | E18: 2 | F18: =E18*C18*7 -> 0 | K18: =E18*15 -> 30
A21: N°Suinetti 45-60gg | C21: =SUMIFS(S6:S7,T6:T7,"<60",T6:T7,">44") -> 0 | E21: 2.3 | F21: =E21*C21*7 -> 0 | K21: =E21*15 -> 34.5 | S21: MEDIA KG MANGIME /CAPO | V21: =K33/300 -> 2.74
A24: N°Suini 60-100gg | C24: =SUMIFS(S6:S7,T6:T7,"<100",T6:T7,">59") -> 0 | E24: 2.7 | F24: =E24*C24*7 -> 0 | K24: =E24*40 -> 108
E26: Kg Man | F26: Kg/week
A27: N°Suini 100gg-6m | C27: =SUMIFS(S6:S7,T6:T7,"<120",T6:T7,">99") -> 0 | E27: 3 | F27: =E27*C27*7 -> 0 | K27: =E27*80 -> 240
E29: Kg Man | F29: Kg/week | R29: Ricorda
A30: N°Suini 6 - 10m | C30: =SUMIF(T6:T14,">119",S6:S14) -> 0 | E30: 3.2 | F30: =E30*7*C30 -> 0 | K30: =E30*120 -> 384 | R30: Gestazione | S30: 3m,3w,3gg | U30: CICLI PRODUTTIVI 2016
R31: calore | S31: 21gg | U31: Ingrasso 10 mesi
C32: N°capi | R32: svezzamento | S32: 4w | U32: gen-ott | V32: giugno-dic
C33: =C15+C30+C27+C18+C21+C24+C12+C9 -> 2 | K33: =SUM(K15:K30) -> 822 | R33: svezz-calore | S33: 5gg | U33: =K33*C33 -> 1644 | V33: =(K33-K30+(E30*30))*C33 -> 1068
G35: CONSUMO ATTUALE
A36: Settimanale | G36: Mais | H36: Orzo | I36: Favino | L36: Grano | M36: Patata prot | N36: Crusca | O36: Erba Medica | P36: Girasole | Q36: tot/week
A37: Fabbisogno Mangime Ingrasso | G37: =(F27+F30+G7+F24+F21+F18)*DIETE!F2 -> 0 | H37: =(F27+F30+G7+F24+F21+F18)*DIETE!F3 -> 0 | I37: =(F27+F30+G7+F24+F21+F18)*DIETE!F4 -> 0 | L37: =(F27+F30+G7+F24+F21+F18)*DIETE!F5 -> 0 | M37: =(F27+F30+G7+F24+F21+F18)*DIETE!F6 -> 0 | N37: =(F27+F30+G7+F24+F21+F18)*DIETE!F7 -> 0 | O37: =(F27+F30+G7+F24+F21+F18)*DIETE!F8 -> 0 | P37: =(F27+F30+G7+F24+F21+F18)*DIETE!F9 -> 0 | Q37: =SUM(G37:P37) -> 0
A39: Fabbisogno per scrofe in lattazione | G39: =E7*DIETE!Q2 -> 0 | H39: =E7*DIETE!Q3 -> 0 | I39: =E7*DIETE!Q4 -> 0 | L39: =E7*DIETE!Q5 -> 0 | M39: =E7*DIETE!Q6 -> 0 | N39: =E7*DIETE!Q7 -> 0 | O39: =E7*DIETE!Q8 -> 0 | P39: =E7*DIETE!Q9 -> 0 | Q39: =SUM(G39:P39) -> 0
A41: Fabbisogno per scrofe in gestazione | G41: =I7*DIETE!L2 -> 0 | H41: =I7*DIETE!L3 -> 0 | I41: =I7*DIETE!L4 -> 0 | L41: =I7*DIETE!L5 -> 0 | M41: =I7*DIETE!L6 -> 0 | N41: =I7*DIETE!L7 -> 0 | O41: =I7*DIETE!L8 -> 0 | P41: =I7*DIETE!L9 -> 0 | Q41: =SUM(G41:P41) -> 0
A43: Fabbisogno per suinetti | G43: =(F15+F18+F21)*DIETE!B2 -> 0 | H43: =(F15+F18+F21)*DIETE!B3 -> 0 | I43: =(F15+F18+F21)*DIETE!B4 -> 0 | L43: =(F15+F18+F21)*DIETE!B5 -> 0 | M43: =(F15+F18+F21)*DIETE!B6 -> 0 | N43: =(F15+F18+F21)*DIETE!B7 -> 0 | O43: =(F15+F18+F21)*DIETE!B8 -> 0 | P43: =(F15+F18+F21)*DIETE!B9 -> 0 | Q43: =SUM(G43:P43) -> 0
A45: Fabbisogno scrofette | G45: =(F9)*DIETE!F2 -> 1.5 | H45: =(F9)*DIETE!F3 -> 1.5 | I45: =(F9)*DIETE!F4 -> 1 | L45: =(F9)*DIETE!F5 -> 0.25 | M45: =(F9)*DIETE!F6 -> 0 | N45: =(F9)*DIETE!F7 -> 0.35 | O45: =(F9)*DIETE!F8 -> 0 | P45: =(F9)*DIETE!F9 -> 0.4 | Q45: =SUM(G45:P45) -> 5
A48: Tot fabbisogno Per scrofe | E48: Tot fabbisogno Per Ingrasso | I48: totalissimo
A49: =K7*(C6+C9) -> 4015 | E49: =V33+U33 -> 2712 | I49: =E49+A49 -> 6727
A51: tot.scrofe 2016 | C51: q | E51: tot. Ingrasso 2016 | G51: q | I51: totalissimo | N51: Organizzazione Terreni
A52: Mais | B52: =A49*DIETE!F2 -> 1204.5 | C52: =B52/100 -> 12.045 | E52: Mais | F52: =E49*DIETE!F2 -> 813.6 | G52: =F52/100 -> 8.136 | I52: Mais | M52: =C52+G52 -> 20.181 | N52: 1,5 Ha
A53: Orzo | B53: =A49*DIETE!F3 -> 1204.5 | C53: =B53/100 -> 12.045 | E53: Orzo | F53: =E49*DIETE!F3 -> 813.6 | G53: =F53/100 -> 8.136 | I53: Orzo | M53: =C53+G53 -> 20.181 | N53: 3/4 Ha | O53: 5??
A54: Favino | B54: =A49*DIETE!F4 -> 803 | C54: =B54/100 -> 8.03 | E54: Favino | F54: =E49*DIETE!F4 -> 542.4 | G54: =F54/100 -> 5.424 | I54: Favino | M54: =C54+G54 -> 13.454 | N54: 4 Ha
A55: Grano | B55: =A49*DIETE!F5 -> 200.75 | C55: =B55/100 -> 2.0075 | E55: Grano | F55: =E49*DIETE!F5 -> 135.6 | G55: =F55/100 -> 1.356 | I55: Grano | M55: =C55+G55 -> 3.3635 | N55: 1 Ha | O55: 0??
A56: Patata prot. | B56: =A49*DIETE!F6 -> 0 | C56: =B56/100 -> 0 | E56: Patata prot. | F56: 0 | G56: =F56/100 -> 0 | I56: Patata prot. | M56: =C56+G56 -> 0
A57: Crusca | B57: =A49*DIETE!F7 -> 281.05 | C57: =B57/100 -> 2.8105 | E57: Crusca | F57: =E49*DIETE!F7 -> 189.84 | G57: =F57/100 -> 1.8984 | I57: Crusca | M57: =C57+G57 -> 4.7089
A58: Erba Medica | B58: =A49*DIETE!F8 -> 0 | C58: =B58/100 -> 0 | E58: Erba Medica | F58: =E49*DIETE!F8 -> 0 | G58: =F58/100 -> 0 | I58: Erba Medica | M58: =C58+G58 -> 0
A59: Girasole | B59: =A49*DIETE!F9 -> 321.2 | C59: =B59/100 -> 3.212 | E59: Girasole | F59: =E49*DIETE!F9 -> 216.96 | G59: =F59/100 -> 2.1696 | I59: Girasole | M59: =C59+G59 -> 5.3816 | N59: 1Ha

Sheet DIETE
B1: =B2+B3+B4+B5+B6+B7+B8+B9 -> 1 | F1: =F2+F3+F4+F5+F6+F7+F8+F9 -> 1 | L1: =L2+L3+L4+L5+L6+L7+L8+L9 -> 1 | Q1: =Q2+Q3+Q4+Q5+Q6+Q7+Q8+Q9 -> 1
A2: Dieta suinetti | B2: 0.55 | C2: Mais | D2: Dieta Suini Ingrasso | F2: 0.3 | G2: Mais | I2: Scrofa In Gestazione | L2: 0.1 | M2: Mais | O2: Scrofa in lattazione | Q2: 0.15 | S2: Mais
B3: 0.3 | C3: Orzo | F3: 0.3 | G3: Orzo | L3: 0.3 | M3: Orzo | Q3: 0.1 | S3: Orzo
B4: 0.1 | C4: Favino | F4: 0.2 | G4: Favino | L4: 0.3 | M4: Favino | Q4: 0.2 | S4: Favino
B5: 0 | C5: Grano | F5: 0.05 | G5: Grano | L5: 0.05 | M5: Grano | Q5: 0 | S5: Grano
B6: 0 | C6: Patata prot. | F6: 0 | G6: Patata prot. | L6: 0.05 | M6: Patata prot. | Q6: 0.05 | S6: Patata prot.
B7: 0.05 | C7: Crusca | F7: 0.07 | G7: Crusca | L7: 0.1 | M7: Crusca | Q7: 0.3 | S7: Crusca
B8: 0 | C8: Erba Medica | F8: 0 | G8: Erba Medica | L8: 0.05 | M8: Erba Medica | Q8: 0.15 | S8: Erba Medica
B9: 0 | C9: Girasole | F9: 0.08 | G9: Girasole | L9: 0.05 | M9: Girasole | Q9: 0.05 | S9: Girasole

Sheet STIMA ANNUA
E3: STIMA ANNUA SPESE PER MAGAZZINO MANGIMI
D5: KG/GG | E5: KG TOT/gg Mangime
A6: Ingrasso suini | C6: 36 | D6: 2.3 | E6: =C6*D6 -> 82.8
A7: Scrofe | C7: 2 | D7: 3 | E7: =C7*D7 -> 6
F9: COSTI
B10: GIORNI | C10: Q.tàin Kg | D10: in q. | F10: Spesa Immagazzinaggio 1°mese | K10: Spesa 11 mesi successivi | N10: TOT | O10: TOTALISSIMO | Q10: Seme grezzo se acquistato | S10: TOT | U10: Costo di Produzone | W10: TOT
B11: 365 | C11: =B11*E6 -> 30222 | D11: =C11/100 -> 302.22 | E11: TOT | F11: euro
A13: Mais | C13: =C11*DIETE!F2 -> 9066.6 | D13: =C13/100 -> 90.666 | F13: 0.6 | G13: =F13*D13 -> 54.3996 | K13: 0.1 | L13: =K13*D13 -> 9.0666 | M13: =L13+G13 -> 63.4662 | N13: =G13+M13 -> 117.8658 | Q13: 17 | S13: =Q13*D13 -> 1541.322
A14: Orzo | C14: =C11*DIETE!F3 -> 9066.6 | D14: =C14/100 -> 90.666 | F14: 0.6 | G14: =F14*D14 -> 54.3996 | K14: 0.1 | L14: =K14*D14 -> 9.0666 | M14: =L14+G14 -> 63.4662 | N14: =G14+M14 -> 117.8658 | Q14: 17 | S14: =Q14*D14 -> 1541.322
A15: Favino | C15: =C11*DIETE!F4 -> 6044.4 | D15: =C15/100 -> 60.444 | F15: 0.6 | G15: =F15*D15 -> 36.2664 | K15: 0.1 | L15: =K15*D15 -> 6.0444 | M15: =L15+G15 -> 42.3108 | N15: =G15+M15 -> 78.5772 | Q15: 17 | S15: =Q15*D15 -> 1027.548
A16: Grano | C16: =C11*DIETE!F5 -> 1511.1 | D16: =C16/100 -> 15.111 | F16: 0.6 | G16: =F16*D16 -> 9.0666 | K16: 0.1 | L16: =K16*D16 -> 1.5111 | M16: =L16+G16 -> 10.5777 | N16: =G16+M16 -> 19.6443 | Q16: 18 | S16: =Q16*D16 -> 271.998
A17: Patata prot. | C17: =C11*DIETE!F6 -> 0 | D17: =C17/100 -> 0 | F17: 0.6 | G17: =F17*D17 -> 0 | K17: 0.1 | L17: =K17*D17 -> 0 | M17: =L17+G17 -> 0 | N17: =G17+M17 -> 0 | Q17: 22 | S17: =Q17*D17 -> 0
A18: Crusca | C18: =C11*DIETE!F7 -> 2115.54 | D18: =C18/100 -> 21.1554 | F18: 0.6 | G18: =F18*D18 -> 12.69324 | K18: 0.1 | L18: =K18*D18 -> 2.11554 | M18: =L18+G18 -> 14.80878 | N18: =G18+M18 -> 27.50202 | Q18: 10 | S18: =Q18*D18 -> 211.554
A19: Erba Medica | C19: =C11*DIETE!F8 -> 0 | D19: =C19/100 -> 0 | F19: 0.6 | G19: =F19*D19 -> 0 | K19: 0.1 | L19: =K19*D19 -> 0 | M19: =L19+G19 -> 0 | N19: =G19+M19 -> 0 | Q19: 20 | S19: =Q19*D19 -> 0
A20: Girasole | C20: =C11*DIETE!F9 -> 2417.76 | D20: =C20/100 -> 24.1776 | F20: 0.6 | G20: =F20*D20 -> 14.50656 | K20: 0.1 | L20: =K20*D20 -> 2.41776 | M20: =L20+G20 -> 16.92432 | N20: =G20+M20 -> 31.43088 | Q20: 22 | S20: =Q20*D20 -> 531.9072
G21: =SUM(G13:G20) -> 181.332 | N21: =SUM(N13:N20) -> 392.886 | O21: =N21+G21 -> 574.218 | S21: =SUM(S13:S20) -> 5125.6512
A30: ANNO 2015
A31: Granaglie ritirate | D31: Granaglie comperate
A32: KG | D32: KG
A33: 680 | B33: FAVE | D33: 470 | E33: MAIS
A34: 200 | B34: GRANO | D34: 20 | E34: CRUSCA
A36: 500 | B36: GIRASOLE

Sheet Acquisti & C.deposito
G2: ACQUISTI/RITIRI IN C.DEPOSITO
D5: ANNO 2015
D9: C/deposito | G9: Ritiri | J9: Acquisti
D10: kg | G10: Kg | J10: Kg
A11: FAVINO | G11: 680
A12: GRANO | G12: 200
A13: ORZO
A14: MAIS | J14: 470
A15: GIRASOLE | G15: 500
A16: CRUSCA | J16: 20

Sheet STORICO MOLITURE
A2: QUANTITà MANGIME MOLITA | E2: DATA | F2: 42371
B5: DOSE (1) | D5: N°DOSI | F5: KG MAN. MOLITO
B7: KG/UN
A8: MAIS 30 | B8: 12
A9: ORZO 30 | B9: 12
A10: FAVE 20 | B10: 8
A11: GIRASOLE 8 | B11: 3.5
A12: CRUSCA 7 | B12: 3
A13: GRANO 5 | B13: 2
B14: =SUM(B8:B13) -> 40.5 | D14: 7 | F14: =D14*B14 -> 283.5
A17: STIMA DURATA
C18: consumo/capo | G18: DURATA MANGIME IN GIORNI
A20: SUINI | B20: 3 | C20: 2.7 | H20: =F14/(C20*B20) -> 35

Sheet VALORI NUTRITIVI ALIMENTI
A2: VALORI NUTRITIVI ALIMENTI
D5: DOSE | F5: DOSE | I5: DOSE | L5: DOSE | O5: % dose | P5: g/g mangime | Q5: g/dose
B6: PG(g)/(kg) tq | D6: razione (kg) | F6: PG | H6: EDS (MJ) | I6: EDS (MJ) | K6: EMS (MJ) | L6: EMS (MJ) | N6: LISINA %/tq
A7: Mais | B7: 90 | D7: 0.9 | F7: 81 | H7: 14.23 | I7: =H7*D7 -> 12.807 | K7: 11.09 | L7: =K7*D7 -> 9.981 | N7: 0.0024 | O7: =N7*D7 -> 0.00216 | P7: 0.0024 | Q7: =O7 -> 0.00216
A8: Orzo | B8: 100 | D8: 0.9 | F8: 90 | H8: 12.61 | I8: =H8*D8 -> 11.349 | K8: 12.21 | L8: =K8*D8 -> 10.989 | N8: 0.0042 | O8: =N8*D8 -> 0.00378 | P8: 0.0042 | Q8: =O8 -> 0.00378
A9: Fave | B9: 263 | D9: 0.6 | F9: 157.8 | H9: 13.81 | I9: =H9*D9 -> 8.286 | K9: 13.05 | L9: =K9*D9 -> 7.83 | N9: 0.0171 | O9: =N9*D9 -> 0.01026 | P9: 0.0171 | Q9: =O9 -> 0.01026
A10: Girasole | B10: 295 | D10: 0.24 | F10: 70.8 | H10: 9.21 | I10: =H10*D10 -> 2.2104 | K10: 8.37 | L10: =K10*D10 -> 2.0088 | N10: 0.0063 | O10: =N10*D10 -> 0.001512 | P10: 0.0063 | Q10: =O10 -> 0.001512
A11: Grano | B11: 112 | D11: 0.15 | F11: 16.8 | H11: 13.84 | I11: =H11*D11 -> 2.076 | K11: 13.43 | L11: =K11*D11 -> 2.0145 | N11: 0.0038 | O11: =N11*D11 -> 0.00057 | P11: 0.0038 | Q11: =O11 -> 0.00057
A12: Crusca-t | B12: 147 | D12: 0.21 | F12: 30.87 | H12: 11.06 | I12: =H12*D12 -> 2.3226 | K12: 9.23 | L12: =K12*D12 -> 1.9383 | N12: 0.0058 | O12: =N12*D12 -> 0.001218 | P12: 0.0058 | Q12: =O12 -> 0.001218
D13: 3 | F13: 447.27 | I13: =SUM(I7:I12) -> 39.051 | L13: =SUM(L7:L12) -> 34.7616 | O13: =SUM(O7:O12) -> 0.0195 | Q13: =SUM(Q7:Q12) -> 0.0195

Sheet Razione alimentare suina
A2: DIETA SUINI
F8: COD. | G8: Elemento | H8: Gr | I8: EMS MJ/kg | J8: PG g/kg | K8: lys g/kg
F9: 0 | H9: 0 | I9: 0 | J9: 0 | K9: 0
F10: 1 | G10: Mais | H10: 1000 | I10: 13.87 | J10: 90 | K10: ='VALORI NUTRITIVI ALIMENTI'!P7*1000 -> 2.4
F11: 2 | G11: Orzo | H11: 1000 | I11: 12.21 | J11: 100 | K11: ='VALORI NUTRITIVI ALIMENTI'!P8*1000 -> 4.2
F12: 3 | G12: Fave | H12: 1000 | I12: 13.05 | J12: 263 | K12: ='VALORI NUTRITIVI ALIMENTI'!P9*1000 -> 17.1
F13: 4 | G13: Girasole | H13: 1000 | I13: 8.37 | J13: 160 | K13: ='VALORI NUTRITIVI ALIMENTI'!P10*1000 -> 6.3
F14: 5 | G14: Grano | H14: 1000 | I14: 13.43 | J14: 112 | K14: ='VALORI NUTRITIVI ALIMENTI'!P11*1000 -> 3.8
F15: 6 | G15: Crusca-t | H15: 1000 | I15: 9.23 | J15: 147 | K15: ='VALORI NUTRITIVI ALIMENTI'!P12*1000 -> 5.8
A23: Pasto ideale
D27: RANGE | I27: COD. | J27: Alimento | L27: Gr | M27: PG | N27: lys | O27: EMS
D28: min | E28: max | I28: 1 | J28: Mais | L28: =VLOOKUP(I28,Tabella3[],3,TRUE) -> 1000 | M28: =VLOOKUP(I28,Tabella3[],5,TRUE) -> 90 | N28: =VLOOKUP(I28,Tabella3[],6,TRUE) -> 2.4 | O28: =VLOOKUP(I28,Tabella3[],4,TRUE) -> 13.87
I29: 2 | J29: Orzo | L29: =VLOOKUP(I29,Tabella3[],3,TRUE) -> 1000 | M29: =VLOOKUP(I29,Tabella3[],5,TRUE) -> 100 | N29: =VLOOKUP(I29,Tabella3[],6,TRUE) -> 4.2 | O29: =VLOOKUP(I29,Tabella3[],4,TRUE) -> 12.21
A30: PG | B30: 420 | D30: =B30-20 -> 400 | E30: =B30+30 -> 450 | I30: 3 | J30: Fave | L30: =VLOOKUP(I30,Tabella3[],3,TRUE) -> 1000 | M30: =VLOOKUP(I30,Tabella3[],5,TRUE) -> 263 | N30: =VLOOKUP(I30,Tabella3[],6,TRUE) -> 17.1 | O30: =VLOOKUP(I30,Tabella3[],4,TRUE) -> 13.05
A31: LYS | B31: 25 | D31: =B31-3 -> 22 | E31: =B31+10 -> 35 | I31: 4 | J31: Girasole | L31: =VLOOKUP(I31,Tabella3[],3,TRUE) -> 1000 | M31: =VLOOKUP(I31,Tabella3[],5,TRUE) -> 160 | N31: =VLOOKUP(I31,Tabella3[],6,TRUE) -> 6.3 | O31: =VLOOKUP(I31,Tabella3[],4,TRUE) -> 8.37
A32: GR | B32: 3500 | D32: =B32-500 -> 3000 | E32: =B32+100 -> 3600 | I32: 5 | J32: Grano | L32: =VLOOKUP(I32,Tabella3[],3,TRUE) -> 1000 | M32: =VLOOKUP(I32,Tabella3[],5,TRUE) -> 112 | N32: =VLOOKUP(I32,Tabella3[],6,TRUE) -> 3.8 | O32: =VLOOKUP(I32,Tabella3[],4,TRUE) -> 13.43
I33: 6 | J33: Crusca-t | L33: =VLOOKUP(I33,Tabella3[],3,TRUE) -> 1000 | M33: =VLOOKUP(I33,Tabella3[],5,TRUE) -> 147 | N33: =VLOOKUP(I33,Tabella3[],6,TRUE) -> 5.8 | O33: =VLOOKUP(I33,Tabella3[],4,TRUE) -> 9.23
J35: Alimento | L35: Gr | M35: PG | N35: lys | O35: EMS | P35: %PASTO
J36: =VLOOKUP(F10,Tabella3[],2,FALSE) -> Mais | L36: =O36*L28/O28 -> 648.88248 | M36: =L36*M28/L28 -> 58.399423 | N36: =L36*N28/L28 -> 1.557318 | O36: =B39*P36 -> 9 | P36: 0.2
J37: =VLOOKUP(F11,Tabella3[],2,FALSE) -> Orzo | L37: =O37*L29/O29 -> 1400.4914 | M37: =L37*M29/L29 -> 140.04914 | N37: =L37*N29/L29 -> 5.8820639 | O37: =B39*P37 -> 17.1 | P37: 0.38
J38: =VLOOKUP(F12,Tabella3[],2,FALSE) -> Fave | L38: =O38*L30/O30 -> 586.2069 | M38: =L38*M30/L30 -> 154.17241 | N38: =L38*N30/L30 -> 10.024138 | O38: =B39*P38 -> 7.65 | P38: 0.17
A39: EMS | B39: 45 | J39: =VLOOKUP(F13,Tabella3[],2,FALSE) -> Girasole | L39: =O39*L31/O31 -> 537.63441 | M39: =L39*M31/L31 -> 86.021505 | N39: =L39*N31/L31 -> 3.3870968 | O39: =B39*P39 -> 4.5 | P39: 0.1
J40: =VLOOKUP(F14,Tabella3[],2,FALSE) -> Grano | L40: =O40*L32/O32 -> 167.53537 | M40: =L40*M32/L32 -> 18.763961 | N40: =L40*N32/L32 -> 0.6366344 | O40: =B39*P40 -> 2.25 | P40: 0.05
J41: =VLOOKUP(F15,Tabella3[],2,FALSE) -> Crusca-t | L41: =O41*L33/O33 -> 487.54063 | M41: =L41*M33/L33 -> 71.668472 | N41: =L41*N33/L33 -> 2.8277356 | O41: =B39*P41 -> 4.5 | P41: 0.1
I43: TOT PASTO | L43: =SUM(L36:L41) -> 3828.2912 | M43: =SUM(M36:M41) -> 529.07492 | N43: =SUM(N36:N41) -> 24.314987 | O43: =SUM(O36:O41) -> 45 | P43: =SUM(P36:P41) -> 1
